BEGIN:VCALENDAR
VERSION:2.0
PRODID:-//hacksw/handcal//NONSGML v1.0//EN
BEGIN:VEVENT
UID:17620
DTSTART;VALUE=DATE:20240210
URL;VALUE=URI:ohschonhell.at/?page_id=39139
SUMMARY:THE HIVE presents: ANDY C feat. Tonn Piper
LOCATION:FLEX
END:VEVENT
END:VCALENDAR


