BEGIN:VCALENDAR
VERSION:2.0
PRODID:-//hacksw/handcal//NONSGML v1.0//EN
BEGIN:VEVENT
UID:17627
DTSTART;VALUE=DATE:20240202
URL;VALUE=URI:ohschonhell.at/?page_id=39153
SUMMARY:Bass Cave – Drum and Bass /w Ðora & DaKindl
LOCATION:FLUCC
END:VEVENT
END:VCALENDAR


