BEGIN:VCALENDAR
VERSION:2.0
PRODID:-//hacksw/handcal//NONSGML v1.0//EN
BEGIN:VEVENT
UID:17636
DTSTART;VALUE=DATE:20240107
URL;VALUE=URI:ohschonhell.at/?page_id=39173
SUMMARY:AFTERHOUR mit REE:RAW & MAIA
LOCATION:Black Market
END:VEVENT
END:VCALENDAR


