BEGIN:VCALENDAR
VERSION:2.0
PRODID:-//hacksw/handcal//NONSGML v1.0//EN
BEGIN:VEVENT
UID:17638
DTSTART;VALUE=DATE:20240112
URL;VALUE=URI:ohschonhell.at/?page_id=39177
SUMMARY:Zeit &amp\; Lust
LOCATION:Kulturzentrum Althangrund
END:VEVENT
END:VCALENDAR


