BEGIN:VCALENDAR
VERSION:2.0
PRODID:-//hacksw/handcal//NONSGML v1.0//EN
BEGIN:VEVENT
UID:17640
DTSTART;VALUE=DATE:20240120
URL;VALUE=URI:ohschonhell.at/?page_id=39181
SUMMARY:G.SPOT - LESS DRAMA- MORE TECHNO
LOCATION:Der Ponyhof
END:VEVENT
END:VCALENDAR


