BEGIN:VCALENDAR
VERSION:2.0
PRODID:-//hacksw/handcal//NONSGML v1.0//EN
BEGIN:VEVENT
UID:17642
DTSTART;VALUE=DATE:20240113
URL;VALUE=URI:ohschonhell.at/?page_id=39187
SUMMARY:AFTERHOUR mit MORPH (TLV) & DJ KIPPPUNKT
LOCATION:Black Market
END:VEVENT
END:VCALENDAR


