BEGIN:VCALENDAR
VERSION:2.0
PRODID:-//hacksw/handcal//NONSGML v1.0//EN
BEGIN:VEVENT
UID:17648
DTSTART;VALUE=DATE:20240127
URL;VALUE=URI:ohschonhell.at/?page_id=39201
SUMMARY:DU TANZT MICH MAL im Volkstheater >Electric Groove Theatre&lt\;
LOCATION:ROTE BAR
END:VEVENT
END:VCALENDAR


