BEGIN:VCALENDAR
VERSION:2.0
PRODID:-//hacksw/handcal//NONSGML v1.0//EN
BEGIN:VEVENT
UID:17652
DTSTART;VALUE=DATE:20240120
URL;VALUE=URI:ohschonhell.at/?page_id=39210
SUMMARY:AFTERHOUR mit YN COLLECTIVE
LOCATION:Black Market
END:VEVENT
END:VCALENDAR


