BEGIN:VCALENDAR
VERSION:2.0
PRODID:-//hacksw/handcal//NONSGML v1.0//EN
BEGIN:VEVENT
UID:17653
DTSTART;VALUE=DATE:20240121
URL;VALUE=URI:ohschonhell.at/?page_id=39213
SUMMARY:AFTERHOUR mit DONNERKANZEL
LOCATION:Black Market
END:VEVENT
END:VCALENDAR


