BEGIN:VCALENDAR
VERSION:2.0
PRODID:-//hacksw/handcal//NONSGML v1.0//EN
BEGIN:VEVENT
UID:17655
DTSTART;VALUE=DATE:20240128
URL;VALUE=URI:ohschonhell.at/?page_id=39219
SUMMARY:AFTERHOUR mit ZARAJEVOO (DE) & SET.IP
LOCATION:Black Market
END:VEVENT
END:VCALENDAR


