BEGIN:VCALENDAR
VERSION:2.0
PRODID:-//hacksw/handcal//NONSGML v1.0//EN
BEGIN:VEVENT
UID:17659
DTSTART;VALUE=DATE:20240131
URL;VALUE=URI:ohschonhell.at/?page_id=39229
SUMMARY:Cheval fatale 
LOCATION:Der Ponyhof
END:VEVENT
END:VCALENDAR


