BEGIN:VCALENDAR
VERSION:2.0
PRODID:-//hacksw/handcal//NONSGML v1.0//EN
BEGIN:VEVENT
UID:17665
DTSTART;VALUE=DATE:20240119
URL;VALUE=URI:ohschonhell.at/?page_id=39241
SUMMARY:NACHTSCHUB w/SKODEN
LOCATION:FLUCC
END:VEVENT
END:VCALENDAR


