BEGIN:VCALENDAR
VERSION:2.0
PRODID:-//hacksw/handcal//NONSGML v1.0//EN
BEGIN:VEVENT
UID:17666
DTSTART;VALUE=DATE:20240203
URL;VALUE=URI:ohschonhell.at/?page_id=39243
SUMMARY:LÖWENZAHN w/ Jessi Herz <3
LOCATION:Kramladen
END:VEVENT
END:VCALENDAR


