BEGIN:VCALENDAR
VERSION:2.0
PRODID:-//hacksw/handcal//NONSGML v1.0//EN
BEGIN:VEVENT
UID:17668
DTSTART;VALUE=DATE:20240201
URL;VALUE=URI:ohschonhell.at/?page_id=39247
SUMMARY:Donnerstag Nacht x Acid Lambada 
LOCATION:SASS
END:VEVENT
END:VCALENDAR


