BEGIN:VCALENDAR
VERSION:2.0
PRODID:-//hacksw/handcal//NONSGML v1.0//EN
BEGIN:VEVENT
UID:17669
DTSTART;VALUE=DATE:20240120
URL;VALUE=URI:ohschonhell.at/?page_id=39249
SUMMARY:CONTRAST pres. TECHNIMATIC - 'FOR ALL OF US' ALBUM LAUNCH + GLXY + KEENO | 18+
LOCATION:GRELLE FORELLE
END:VEVENT
END:VCALENDAR


