BEGIN:VCALENDAR
VERSION:2.0
PRODID:-//hacksw/handcal//NONSGML v1.0//EN
BEGIN:VEVENT
UID:17670
DTSTART;VALUE=DATE:20240209
URL;VALUE=URI:ohschonhell.at/?page_id=39251
SUMMARY:ZUCKERWATT w/ LAURENT GARNIER | &lt\; Grelle Forelle
LOCATION:GRELLE FORELLE
END:VEVENT
END:VCALENDAR


