BEGIN:VCALENDAR
VERSION:2.0
PRODID:-//hacksw/handcal//NONSGML v1.0//EN
BEGIN:VEVENT
UID:17677
DTSTART;VALUE=DATE:20240202
URL;VALUE=URI:ohschonhell.at/?page_id=39265
SUMMARY:404 w/ Nikki Nair
LOCATION:RHIZ
END:VEVENT
END:VCALENDAR


