BEGIN:VCALENDAR
VERSION:2.0
PRODID:-//hacksw/handcal//NONSGML v1.0//EN
BEGIN:VEVENT
UID:17703
DTSTART;VALUE=DATE:20240203
URL;VALUE=URI:ohschonhell.at/?page_id=39320
SUMMARY:AFTERHOUR mit RIDGIE & DANNY MURANO
LOCATION:Black Market
END:VEVENT
END:VCALENDAR


