BEGIN:VCALENDAR
VERSION:2.0
PRODID:-//hacksw/handcal//NONSGML v1.0//EN
BEGIN:VEVENT
UID:17705
DTSTART;VALUE=DATE:20240109
URL;VALUE=URI:ohschonhell.at/?page_id=39326
SUMMARY:Drumworks presents Azura [1985 Music / EQ50] @ Black Market\, Vienna
LOCATION:Black Market
END:VEVENT
END:VCALENDAR


