BEGIN:VCALENDAR
VERSION:2.0
PRODID:-//hacksw/handcal//NONSGML v1.0//EN
BEGIN:VEVENT
UID:17715
DTSTART;VALUE=DATE:20240216
URL;VALUE=URI:ohschonhell.at/?page_id=39351
SUMMARY:PULSAR w/ ENGL &amp\; Parterre LIVE
LOCATION:rrr
END:VEVENT
END:VCALENDAR


