BEGIN:VCALENDAR
VERSION:2.0
PRODID:-//hacksw/handcal//NONSGML v1.0//EN
BEGIN:VEVENT
UID:17721
DTSTART;VALUE=DATE:20240215
URL;VALUE=URI:ohschonhell.at/?page_id=39364
SUMMARY:RAVELADEN #35
LOCATION:Kramladen
END:VEVENT
END:VCALENDAR


