BEGIN:VCALENDAR
VERSION:2.0
PRODID:-//hacksw/handcal//NONSGML v1.0//EN
BEGIN:VEVENT
UID:17724
DTSTART;VALUE=DATE:20240224
URL;VALUE=URI:ohschonhell.at/?page_id=39370
SUMMARY:DANACH 
LOCATION:Der Ponyhof
END:VEVENT
END:VCALENDAR


