BEGIN:VCALENDAR
VERSION:2.0
PRODID:-//hacksw/handcal//NONSGML v1.0//EN
BEGIN:VEVENT
UID:17727
DTSTART;VALUE=DATE:20240217
URL;VALUE=URI:ohschonhell.at/?page_id=39377
SUMMARY:AFTERHOUR mit KAT ZE b2b REE:RAW
LOCATION:Black Market
END:VEVENT
END:VCALENDAR


