BEGIN:VCALENDAR
VERSION:2.0
PRODID:-//hacksw/handcal//NONSGML v1.0//EN
BEGIN:VEVENT
UID:17733
DTSTART;VALUE=DATE:20240307
URL;VALUE=URI:ohschonhell.at/?page_id=39390
SUMMARY:deep cut | Hypnotic &amp\; Deep Techno @ Kramladen | 7.3.2024 w/ urna()sonic &amp\; pezel
LOCATION:Kramladen
END:VEVENT
END:VCALENDAR


