BEGIN:VCALENDAR
VERSION:2.0
PRODID:-//hacksw/handcal//NONSGML v1.0//EN
BEGIN:VEVENT
UID:17734
DTSTART;VALUE=DATE:20240216
URL;VALUE=URI:ohschonhell.at/?page_id=39392
SUMMARY:FISH MARKET x 15 YEARS OF MEAT feat. LACCHESI (Maison Close\, FR)
LOCATION:GRELLE FORELLE
END:VEVENT
END:VCALENDAR


