BEGIN:VCALENDAR
VERSION:2.0
PRODID:-//hacksw/handcal//NONSGML v1.0//EN
BEGIN:VEVENT
UID:17737
DTSTART;VALUE=DATE:20240224
URL;VALUE=URI:ohschonhell.at/?page_id=39398
SUMMARY:F*CKEN PLUS - Megerparty Spring 24 Couture Ultra AI (Full HD) - w/ SANDRIEN (NL)
LOCATION:GRELLE FORELLE
END:VEVENT
END:VCALENDAR


