BEGIN:VCALENDAR
VERSION:2.0
PRODID:-//hacksw/handcal//NONSGML v1.0//EN
BEGIN:VEVENT
UID:17738
DTSTART;VALUE=DATE:20240308
URL;VALUE=URI:ohschonhell.at/?page_id=39400
SUMMARY:16 YRS ZUCKERWATT w/ ELLEN ALLIEN x Ponyhof | &lt\; Grelle Forelle
LOCATION:GRELLE FORELLE
END:VEVENT
END:VCALENDAR


