BEGIN:VCALENDAR
VERSION:2.0
PRODID:-//hacksw/handcal//NONSGML v1.0//EN
BEGIN:VEVENT
UID:17739
DTSTART;VALUE=DATE:20240309
URL;VALUE=URI:ohschonhell.at/?page_id=39402
SUMMARY:(K)eine Hexerei - ein Festakt von und für Göttinnen*
LOCATION:GRELLE FORELLE
END:VEVENT
END:VCALENDAR


