BEGIN:VCALENDAR
VERSION:2.0
PRODID:-//hacksw/handcal//NONSGML v1.0//EN
BEGIN:VEVENT
UID:17741
DTSTART;VALUE=DATE:20240301
URL;VALUE=URI:ohschonhell.at/?page_id=39406
SUMMARY:TECHNO ENTGLEIST | BUSSIS AUS BERLIN
LOCATION:GRELLE FORELLE
END:VEVENT
END:VCALENDAR


