BEGIN:VCALENDAR
VERSION:2.0
PRODID:-//hacksw/handcal//NONSGML v1.0//EN
BEGIN:VEVENT
UID:17743
DTSTART;VALUE=DATE:20240224
URL;VALUE=URI:ohschonhell.at/?page_id=39410
SUMMARY:Switch! feat. Mozey\, Woodlock\, MC Jimmy Danger
LOCATION:FLEX
END:VEVENT
END:VCALENDAR


