BEGIN:VCALENDAR
VERSION:2.0
PRODID:-//hacksw/handcal//NONSGML v1.0//EN
BEGIN:VEVENT
UID:17750
DTSTART;VALUE=DATE:20240224
URL;VALUE=URI:ohschonhell.at/?page_id=39424
SUMMARY:LABELNACHT by Gesindel x GDN Records w/ Gockel\, Algayev & I Dance Alone
LOCATION:DAS WERK
END:VEVENT
END:VCALENDAR


