BEGIN:VCALENDAR
VERSION:2.0
PRODID:-//hacksw/handcal//NONSGML v1.0//EN
BEGIN:VEVENT
UID:17769
DTSTART;VALUE=DATE:20240301
URL;VALUE=URI:ohschonhell.at/?page_id=39462
SUMMARY:NeBuchadneZzar
LOCATION:Na Nang CLub
END:VEVENT
END:VCALENDAR


