BEGIN:VCALENDAR
VERSION:2.0
PRODID:-//hacksw/handcal//NONSGML v1.0//EN
BEGIN:VEVENT
UID:17771
DTSTART;VALUE=DATE:20240301
URL;VALUE=URI:ohschonhell.at/?page_id=39467
SUMMARY:TOGA TAKEOVER
LOCATION:Black Market
END:VEVENT
END:VCALENDAR


