BEGIN:VCALENDAR
VERSION:2.0
PRODID:-//hacksw/handcal//NONSGML v1.0//EN
BEGIN:VEVENT
UID:17774
DTSTART;VALUE=DATE:20240302
URL;VALUE=URI:ohschonhell.at/?page_id=39474
SUMMARY:LÖWENZAHN | GENERAL TECHNO DE-RESTORATION
LOCATION:Kramladen
END:VEVENT
END:VCALENDAR


