BEGIN:VCALENDAR
VERSION:2.0
PRODID:-//hacksw/handcal//NONSGML v1.0//EN
BEGIN:VEVENT
UID:17783
DTSTART;VALUE=DATE:20240301
URL;VALUE=URI:ohschonhell.at/?page_id=39492
SUMMARY:2 Yrs Im Freudentaumel mit Midas104 Live (Katermukke) & Rezident (Anjuna Deep)
LOCATION:FLUCC
END:VEVENT
END:VCALENDAR


