BEGIN:VCALENDAR
VERSION:2.0
PRODID:-//hacksw/handcal//NONSGML v1.0//EN
BEGIN:VEVENT
UID:17784
DTSTART;VALUE=DATE:20240229
URL;VALUE=URI:ohschonhell.at/?page_id=39494
SUMMARY:Donnerstag Nacht x Fortunea Release Party
LOCATION:SASS
END:VEVENT
END:VCALENDAR


