BEGIN:VCALENDAR
VERSION:2.0
PRODID:-//hacksw/handcal//NONSGML v1.0//EN
BEGIN:VEVENT
UID:17785
DTSTART;VALUE=DATE:20240308
URL;VALUE=URI:ohschonhell.at/?page_id=39496
SUMMARY:Universe Diverso* x fast + nice - FLINTA*s ONLY
LOCATION:FLUCC
END:VEVENT
END:VCALENDAR


