BEGIN:VCALENDAR
VERSION:2.0
PRODID:-//hacksw/handcal//NONSGML v1.0//EN
BEGIN:VEVENT
UID:17788
DTSTART;VALUE=DATE:20240309
URL;VALUE=URI:ohschonhell.at/?page_id=39502
SUMMARY:Feasts & Frames Vol. 3/1
LOCATION:AA
END:VEVENT
END:VCALENDAR


