BEGIN:VCALENDAR
VERSION:2.0
PRODID:-//hacksw/handcal//NONSGML v1.0//EN
BEGIN:VEVENT
UID:17796
DTSTART;VALUE=DATE:20240316
URL;VALUE=URI:ohschonhell.at/?page_id=39523
SUMMARY:AFTERHOUR mit ICORGORI & FLASHPURE
LOCATION:Black Market
END:VEVENT
END:VCALENDAR


