BEGIN:VCALENDAR
VERSION:2.0
PRODID:-//hacksw/handcal//NONSGML v1.0//EN
BEGIN:VEVENT
UID:17797
DTSTART;VALUE=DATE:20240317
URL;VALUE=URI:ohschonhell.at/?page_id=39526
SUMMARY:BONNIE & CLYDE NEWCOMER AFTERHOUR w/ DJ WIFI\, CHIARA ALLNUTT & TELICHO
LOCATION:Black Market
END:VEVENT
END:VCALENDAR


