BEGIN:VCALENDAR
VERSION:2.0
PRODID:-//hacksw/handcal//NONSGML v1.0//EN
BEGIN:VEVENT
UID:17799
DTSTART;VALUE=DATE:20240323
URL;VALUE=URI:ohschonhell.at/?page_id=39532
SUMMARY:AFTERHOUR mit MIND ENTERTAINMENT
LOCATION:Black Market
END:VEVENT
END:VCALENDAR


