BEGIN:VCALENDAR
VERSION:2.0
PRODID:-//hacksw/handcal//NONSGML v1.0//EN
BEGIN:VEVENT
UID:17800
DTSTART;VALUE=DATE:20240324
URL;VALUE=URI:ohschonhell.at/?page_id=39535
SUMMARY:AFTERHOUR mit CED b2b DAN BOG
LOCATION:Black Market
END:VEVENT
END:VCALENDAR


