BEGIN:VCALENDAR
VERSION:2.0
PRODID:-//hacksw/handcal//NONSGML v1.0//EN
BEGIN:VEVENT
UID:17804
DTSTART;VALUE=DATE:20240331
URL;VALUE=URI:ohschonhell.at/?page_id=39545
SUMMARY:KEIN SONNTAG OHNE TECHNO - SEASON OPENING
LOCATION:GRELLE FORELLE
END:VEVENT
END:VCALENDAR


