BEGIN:VCALENDAR
VERSION:2.0
PRODID:-//hacksw/handcal//NONSGML v1.0//EN
BEGIN:VEVENT
UID:17805
DTSTART;VALUE=DATE:20240330
URL;VALUE=URI:ohschonhell.at/?page_id=39547
SUMMARY:Misguided Label Launch w/ Obscure Shape\, Ruiz OSC1\, KTK & DLV
LOCATION:GRELLE FORELLE
END:VEVENT
END:VCALENDAR


