BEGIN:VCALENDAR
VERSION:2.0
PRODID:-//hacksw/handcal//NONSGML v1.0//EN
BEGIN:VEVENT
UID:17809
DTSTART;VALUE=DATE:20240323
URL;VALUE=URI:ohschonhell.at/?page_id=39555
SUMMARY:Switch! feat. Sub Zero\, Obey\, Noir\, MC Funsta
LOCATION:FLEX
END:VEVENT
END:VCALENDAR


