BEGIN:VCALENDAR
VERSION:2.0
PRODID:-//hacksw/handcal//NONSGML v1.0//EN
BEGIN:VEVENT
UID:17810
DTSTART;VALUE=DATE:20240316
URL;VALUE=URI:ohschonhell.at/?page_id=39557
SUMMARY:BEAT IT
LOCATION:FLEX
END:VEVENT
END:VCALENDAR


