BEGIN:VCALENDAR
VERSION:2.0
PRODID:-//hacksw/handcal//NONSGML v1.0//EN
BEGIN:VEVENT
UID:17833
DTSTART;VALUE=DATE:20240323
URL;VALUE=URI:ohschonhell.at/?page_id=39603
SUMMARY:BASSTRACE 9 YEARS with PINCH · GNASHA · PHARMA & SEDAN · SGT POKES
LOCATION:Kulturzentrum Althangrund
END:VEVENT
END:VCALENDAR


