BEGIN:VCALENDAR
VERSION:2.0
PRODID:-//hacksw/handcal//NONSGML v1.0//EN
BEGIN:VEVENT
UID:17842
DTSTART;VALUE=DATE:20240321
URL;VALUE=URI:ohschonhell.at/?page_id=39623
SUMMARY:RAVELADEN #36
LOCATION:Kramladen
END:VEVENT
END:VCALENDAR


