BEGIN:VCALENDAR
VERSION:2.0
PRODID:-//hacksw/handcal//NONSGML v1.0//EN
BEGIN:VEVENT
UID:17843
DTSTART;VALUE=DATE:20240322
URL;VALUE=URI:ohschonhell.at/?page_id=39625
SUMMARY:technolog
LOCATION:Kramladen
END:VEVENT
END:VCALENDAR


