BEGIN:VCALENDAR
VERSION:2.0
PRODID:-//hacksw/handcal//NONSGML v1.0//EN
BEGIN:VEVENT
UID:17844
DTSTART;VALUE=DATE:20240329
URL;VALUE=URI:ohschonhell.at/?page_id=39627
SUMMARY:D4rkF0REsT[23]TEKN0_RAVE
LOCATION:Na Nang CLub
END:VEVENT
END:VCALENDAR


